BEGIN:VCALENDAR
VERSION:2.0
PRODID:-//Ultimate Comics - ECPv6.15.20//NONSGML v1.0//EN
CALSCALE:GREGORIAN
METHOD:PUBLISH
X-ORIGINAL-URL:https://ultimatecomics.com
X-WR-CALDESC:Events for Ultimate Comics
REFRESH-INTERVAL;VALUE=DURATION:PT1H
X-Robots-Tag:noindex
X-PUBLISHED-TTL:PT1H
BEGIN:VTIMEZONE
TZID:America/New_York
BEGIN:DAYLIGHT
TZOFFSETFROM:-0500
TZOFFSETTO:-0400
TZNAME:EDT
DTSTART:20220313T070000
END:DAYLIGHT
BEGIN:STANDARD
TZOFFSETFROM:-0400
TZOFFSETTO:-0500
TZNAME:EST
DTSTART:20221106T060000
END:STANDARD
BEGIN:DAYLIGHT
TZOFFSETFROM:-0500
TZOFFSETTO:-0400
TZNAME:EDT
DTSTART:20230312T070000
END:DAYLIGHT
BEGIN:STANDARD
TZOFFSETFROM:-0400
TZOFFSETTO:-0500
TZNAME:EST
DTSTART:20231105T060000
END:STANDARD
BEGIN:DAYLIGHT
TZOFFSETFROM:-0500
TZOFFSETTO:-0400
TZNAME:EDT
DTSTART:20240310T070000
END:DAYLIGHT
BEGIN:STANDARD
TZOFFSETFROM:-0400
TZOFFSETTO:-0500
TZNAME:EST
DTSTART:20241103T060000
END:STANDARD
END:VTIMEZONE
BEGIN:VEVENT
DTSTART;TZID=America/New_York:20230603T120000
DTEND;TZID=America/New_York:20230603T150000
DTSTAMP:20260420T182236
CREATED:20230515T161213Z
LAST-MODIFIED:20230515T161213Z
UID:10000007-1685793600-1685804400@ultimatecomics.com
SUMMARY:Zoe Thorogood Signing at Ultimate Comics Cary
DESCRIPTION:Saturday June 3rd\, meet Zoe Thorogood\, the best selling creator of graphic novels It’s Lonely at the Centre of the Earth\, Joe Hill’s Rain\, and the Impending Blindness of Billie Scott at Ultimate Comics Cary!\n\nBreakout star Zoe Thorogood is traveling all the way from the UK to sign your books for free Saturday June 3rd at Ultimate Comics Cary. Copies of her graphic novels will be available for purchase. Signatures are free!\n\nSaturday 6/3\n12-3 PM\nUltimate Comics Cary\n1301 Buck Jones Rd\, Raleigh\, NC\, 27606
URL:https://ultimatecomics.com/event/zoe-thorogood-signing-at-ultimate-comics-cary/
LOCATION:Ultimate Comics Cary\, 218 Nottingham Drive\, Cary\, NC\, 27511\, United States
ATTACH;FMTTYPE=image/jpeg:https://ultimatecomics.com/wp-content/uploads/2023/05/ZoeFB.jpg
ORGANIZER;CN="Ultimate Comics":MAILTO:ultimatecomicsonline@gmail.com
END:VEVENT
END:VCALENDAR