BEGIN:VCALENDAR
VERSION:2.0
PRODID:-//Ultimate Comics - ECPv6.15.20//NONSGML v1.0//EN
CALSCALE:GREGORIAN
METHOD:PUBLISH
X-WR-CALNAME:Ultimate Comics
X-ORIGINAL-URL:https://ultimatecomics.com
X-WR-CALDESC:Events for Ultimate Comics
REFRESH-INTERVAL;VALUE=DURATION:PT1H
X-Robots-Tag:noindex
X-PUBLISHED-TTL:PT1H
BEGIN:VTIMEZONE
TZID:America/New_York
BEGIN:DAYLIGHT
TZOFFSETFROM:-0500
TZOFFSETTO:-0400
TZNAME:EDT
DTSTART:20220313T070000
END:DAYLIGHT
BEGIN:STANDARD
TZOFFSETFROM:-0400
TZOFFSETTO:-0500
TZNAME:EST
DTSTART:20221106T060000
END:STANDARD
BEGIN:DAYLIGHT
TZOFFSETFROM:-0500
TZOFFSETTO:-0400
TZNAME:EDT
DTSTART:20230312T070000
END:DAYLIGHT
BEGIN:STANDARD
TZOFFSETFROM:-0400
TZOFFSETTO:-0500
TZNAME:EST
DTSTART:20231105T060000
END:STANDARD
BEGIN:DAYLIGHT
TZOFFSETFROM:-0500
TZOFFSETTO:-0400
TZNAME:EDT
DTSTART:20240310T070000
END:DAYLIGHT
BEGIN:STANDARD
TZOFFSETFROM:-0400
TZOFFSETTO:-0500
TZNAME:EST
DTSTART:20241103T060000
END:STANDARD
END:VTIMEZONE
BEGIN:VEVENT
DTSTART;TZID=America/New_York:20230520T120000
DTEND;TZID=America/New_York:20230520T150000
DTSTAMP:20260422T205101
CREATED:20230515T151241Z
LAST-MODIFIED:20230515T151241Z
UID:10000006-1684584000-1684594800@ultimatecomics.com
SUMMARY:Free The Dog Knight Signing with Jeremy Whitley
DESCRIPTION:Meet Jeremy Whitley\, writer of the new middle grade graphic novel The Dog Knight\, Saturday 5/20 from 12-3 PM for a free signing event at Ultimate Comics Crabtree!\n\nSaturday 5/20\, head over to Ultimate Comics Crabtree for a free signing event to mark the launch of the new kid friendly graphic novel\, The Dog Knight! Signatures are free\, copies of the book will be available for purchase. Writer Jeremy Whitley is also known for writing Princeless\, My Little Pony\, The School for Extraterrestrial Girls\, as well as Unstoppable Wasp\, the Future Foundation\, Champions\, and the Avengers for Marvel Comics!\n\nSaturday May 20th\n12-3 PM\nUltimate Comics Crabtree\n4325 Glenwood Ave Suite 2030 \, Raleigh\, NC\, 27612 Upper Level Near Macy’s\n\n\n\nBook Details\nA nonbinary middle schooler saves a dog from bullies and is offered the chance to become the Dog Knight\, protector of a magical pact between humans and dogs\, in the first book of this humorous and heartwarming middle-grade graphic novel series from Jeremy Whitely\, author of Princeless\, and Bre Indigo\, illustrator of Meg\, Jo\, Beth\, and Amy: A Graphic Novel.\nFrankie knows who they are. They’re a drummer\, they’re nonbinary\, and they’re… the Dog Knight?\nOne day Frankie is a relatively normal middle schooler\, with relatively normal challenges\, like finding the perfect outfit to wear during their drum solo during the upcoming band concert. The next\, they save a friendly golden retriever from bullies and suddenly find themselves in a giant magical doghouse\, with a funny looking helmet\, talking to a group of dog superheroes called the Pawtheon about a job offer.\nIf Frankie can prove that they possess the six dog virtues of loyalty\, kindness\, honesty\, justice\, stubbornness\, and smell\, they will be named the Dog Knight and be given the power to fight alongside the Pawtheon and save the world from the forces of chaos.\nMaybe there is more to Frankie than they thought?
URL:https://ultimatecomics.com/event/free-the-dog-knight-signing-with-jeremy-whitley/
LOCATION:ultimate comics crabtree\, 4325 Glenwood Ave Suite 2030\, Raleigh\, NC\, 27612\, United States
ATTACH;FMTTYPE=image/jpeg:https://ultimatecomics.com/wp-content/uploads/2023/05/Whitely_Event_Header.jpg
ORGANIZER;CN="Ultimate Comics":MAILTO:ultimatecomicsonline@gmail.com
END:VEVENT
END:VCALENDAR