BEGIN:VCALENDAR
VERSION:2.0
PRODID:-//Ultimate Comics - ECPv6.15.20//NONSGML v1.0//EN
CALSCALE:GREGORIAN
METHOD:PUBLISH
X-WR-CALNAME:Ultimate Comics
X-ORIGINAL-URL:https://ultimatecomics.com
X-WR-CALDESC:Events for Ultimate Comics
REFRESH-INTERVAL;VALUE=DURATION:PT1H
X-Robots-Tag:noindex
X-PUBLISHED-TTL:PT1H
BEGIN:VTIMEZONE
TZID:America/New_York
BEGIN:DAYLIGHT
TZOFFSETFROM:-0500
TZOFFSETTO:-0400
TZNAME:EDT
DTSTART:20250309T070000
END:DAYLIGHT
BEGIN:STANDARD
TZOFFSETFROM:-0400
TZOFFSETTO:-0500
TZNAME:EST
DTSTART:20251102T060000
END:STANDARD
BEGIN:DAYLIGHT
TZOFFSETFROM:-0500
TZOFFSETTO:-0400
TZNAME:EDT
DTSTART:20260308T070000
END:DAYLIGHT
BEGIN:STANDARD
TZOFFSETFROM:-0400
TZOFFSETTO:-0500
TZNAME:EST
DTSTART:20261101T060000
END:STANDARD
BEGIN:DAYLIGHT
TZOFFSETFROM:-0500
TZOFFSETTO:-0400
TZNAME:EDT
DTSTART:20270314T070000
END:DAYLIGHT
BEGIN:STANDARD
TZOFFSETFROM:-0400
TZOFFSETTO:-0500
TZNAME:EST
DTSTART:20271107T060000
END:STANDARD
END:VTIMEZONE
BEGIN:VEVENT
DTSTART;TZID=America/New_York:20260501T070000
DTEND;TZID=America/New_York:20260501T203000
DTSTAMP:20260421T010731
CREATED:20260416T171735Z
LAST-MODIFIED:20260416T171735Z
UID:10000056-1777618800-1777667400@ultimatecomics.com
SUMMARY:VIP Panel with Actor Ahmed Best!
DESCRIPTION:Star Wars fans! Celebrate with us!\nAhmed Best will be joining us not JUST for Free Comic Book Day at Crabtree Mall but now for an EXCLUSIVE VIP Event! Ahmed will be joining us for a VIP Panel & Signing Friday night at Ultimate Comics Cary from 7:00PM-8:30PM!\nSkip the Free Comic Book Day lines and join a few other VIP’s for a panel followed by signings and pictures with Ahmed. VIP panel tickets will be limited to just 25 people. Each attendee will also get a copy of our exclusive Tommy Lee Edwards art print!\nAhmed Best VIP Panel Ticket – $199.99\nEach ticket includes entry to the panel\, one signed item and one picture ($140 value) & our Tommy Lee Edwards Ahmed Best Art Print ($30 value). With each ticket purchased we will also be making a donation to our Free Comic Book Day charity partner\, the American Cancer Society.\nDate/Time: Friday 5/1 from 7:00PM-8:30PM\nLocation: 218 Nottingham Dr. Cary\, NC\nPurchase Tickets Here: Purchase Page\nRSVP Here: Facebook Event Page
URL:https://ultimatecomics.com/event/vip-panel-with-actor-ahmed-best/
LOCATION:Ultimate Comics Cary\, 218 Nottingham Drive\, Cary\, NC\, 27511\, United States
ATTACH;FMTTYPE=image/jpeg:https://ultimatecomics.com/wp-content/uploads/2026/04/ahmed-best.jpg
END:VEVENT
BEGIN:VEVENT
DTSTART;TZID=America/New_York:20260501T180000
DTEND;TZID=America/New_York:20260501T193000
DTSTAMP:20260421T010731
CREATED:20260416T170949Z
LAST-MODIFIED:20260416T171103Z
UID:10000055-1777658400-1777663800@ultimatecomics.com
SUMMARY:VIP Panel with Artist David Finch!
DESCRIPTION:Panel will take place at the Ultimate Comics Discount Pop Up\, located at 1301 Buck Jones Rd\, Raleigh\, NC.Friday 5/1 from 6:00PM-7:30PM\nWe’re already SO excited to be hosting the extraordinary David Finch at our Cary location for FCBD! Plus we have something EXTRA special in store for those who join us for our Exclusive VIP Panel on Friday 5/1.\nJoin us for a ticketed event Friday\, May 1st from 6PM-7:30PM with legendary comic artist David Finch! Finch will be joining us for a 20-30 minute panel followed by signings and selfies with the artist. All tickets purchased will come with a set (Trade dress & Virgin) of our Amazing Spider-Man #35 Ultimate Comics Exclusive\, as well as an exclusive Marvel official David Finch print\, made just for his visit here and limited to just 200 copies!\nBulk signing discounts may also be available depending on quantity. Want to get your comics slabbed? CGC Facilitators will be present for the signing portion of the event! CGC Signatures have an Artist Fee of $20 all other other CGC fees can be discussed the CGC Facilitator – The Comic Book Presser!\nTickets are available for purchase through the link below\, will be limited to a maximum of 50! With every ticket purchased we will be making a donation to our FCBD charity partner\, the American Cancer Society!\nVIP Panel Ticket $99\nIncludes Panel Entry\, ASM #35 Set ($45 value)\, Exclusive Finch Print ($30 value)\, 1 Free Signature (additional signatures available for $15)\nPurchase Tickets Here: Purchase Page\nRSVP Here: Facebook Event Page
URL:https://ultimatecomics.com/event/vip-panel-with-artist-david-finch/
LOCATION:NC
ATTACH;FMTTYPE=image/jpeg:https://ultimatecomics.com/wp-content/uploads/2026/04/Guest-Signing-Tile-1.jpg
END:VEVENT
END:VCALENDAR